BEGIN:VCALENDAR
VERSION:2.0
PRODID:-//horsealert.local//NONSGML kigkonsult.se iCalcreator 2.10.5//
CALSCALE:GREGORIAN
X-WR-TIMEZONE:Europe/Dublin
BEGIN:VTIMEZONE
TZID:Etc/GMT-1
BEGIN:STANDARD
DTSTART:20010101T000000
TZOFFSETFROM:+0100
TZOFFSETTO:+0100
TZNAME:GMT +01:00
END:STANDARD
END:VTIMEZONE
BEGIN:VEVENT
UID:20260422T164936CEST-1447z5cG35@horsealert.local
DTSTAMP:20260422T140436Z
CATEGORIES:Horse Alerts
DESCRIPTION:Fly Easyjet From London Southend Airport Nursery
DTSTART:20160827T142500
LOCATION:England
SUMMARY:Horse Racing:Fly Easyjet From London Southend Airport Nursery
END:VEVENT
END:VCALENDAR
