BEGIN:VCALENDAR
VERSION:2.0
PRODID:-//horsealert.local//NONSGML kigkonsult.se iCalcreator 2.10.5//
CALSCALE:GREGORIAN
X-WR-TIMEZONE:Europe/Dublin
BEGIN:VTIMEZONE
TZID:Etc/GMT-1
BEGIN:STANDARD
DTSTART:20010101T000000
TZOFFSETFROM:+0100
TZOFFSETTO:+0100
TZNAME:GMT +01:00
END:STANDARD
END:VTIMEZONE
BEGIN:VEVENT
UID:20260422T164814CEST-9415uVstL7@horsealert.local
DTSTAMP:20260422T140414Z
CATEGORIES:Horse Alerts
DESCRIPTION:Eddie Stobart E Fulfilment EBF Stallions Maiden Stakes (Plus 10
 )
DTSTART:20160827T135000
LOCATION:England
SUMMARY:Horse Racing:Eddie Stobart E Fulfilment EBF Stallions Maiden Stakes
  (Plus 10)
END:VEVENT
END:VCALENDAR
