BEGIN:VCALENDAR
VERSION:2.0
PRODID:-//horsealert.local//NONSGML kigkonsult.se iCalcreator 2.10.5//
CALSCALE:GREGORIAN
X-WR-TIMEZONE:Europe/Dublin
BEGIN:VTIMEZONE
TZID:Etc/GMT-1
BEGIN:STANDARD
DTSTART:20010101T000000
TZOFFSETFROM:+0100
TZOFFSETTO:+0100
TZNAME:GMT +01:00
END:STANDARD
END:VTIMEZONE
BEGIN:VEVENT
UID:20260422T165125CEST-1055aA75Jn@horsealert.local
DTSTAMP:20260422T140425Z
CATEGORIES:Horse Alerts
DESCRIPTION:Captain Jack Sparrow's Pirates Day Maiden Claiming Stakes
DTSTART:20160826T135000
LOCATION:England
SUMMARY:Horse Racing:Captain Jack Sparrow's Pirates Day Maiden Claiming Sta
 kes
END:VEVENT
END:VCALENDAR
