BEGIN:VCALENDAR
VERSION:2.0
PRODID:-//horsealert.local//NONSGML kigkonsult.se iCalcreator 2.10.5//
CALSCALE:GREGORIAN
X-WR-TIMEZONE:Europe/Dublin
BEGIN:VTIMEZONE
TZID:Etc/GMT-1
BEGIN:STANDARD
DTSTART:20010101T000000
TZOFFSETFROM:+0100
TZOFFSETTO:+0100
TZNAME:GMT +01:00
END:STANDARD
END:VTIMEZONE
BEGIN:VEVENT
UID:20260422T164802CEST-86994Zk56m@horsealert.local
DTSTAMP:20260422T140402Z
CATEGORIES:Horse Alerts
DESCRIPTION:Josie O'Leary\, Nicola\, Beck And Archie Pineapple Novices' Cha
 se
DTSTART:20160825T155000
LOCATION:England
SUMMARY:Horse Racing:Josie O'Leary\, Nicola\, Beck And Archie Pineapple Nov
 ices' Chase
END:VEVENT
END:VCALENDAR
