BEGIN:VCALENDAR
VERSION:2.0
PRODID:-//horsealert.local//NONSGML kigkonsult.se iCalcreator 2.10.5//
CALSCALE:GREGORIAN
X-WR-TIMEZONE:Europe/Dublin
BEGIN:VTIMEZONE
TZID:Etc/GMT-1
BEGIN:STANDARD
DTSTART:20010101T000000
TZOFFSETFROM:+0100
TZOFFSETTO:+0100
TZNAME:GMT +01:00
END:STANDARD
END:VTIMEZONE
BEGIN:VEVENT
UID:20260422T165130CEST-8148Rotp0g@horsealert.local
DTSTAMP:20260422T140430Z
CATEGORIES:Horse Alerts
DESCRIPTION:Des Lobelias Claiming Stakes
DTSTART:20160825T132000
LOCATION:France
SUMMARY:Horse Racing:Des Lobelias Claiming Stakes
END:VEVENT
END:VCALENDAR
