BEGIN:VCALENDAR
VERSION:2.0
PRODID:-//horsealert.local//NONSGML kigkonsult.se iCalcreator 2.10.5//
CALSCALE:GREGORIAN
X-WR-TIMEZONE:Europe/Dublin
BEGIN:VTIMEZONE
TZID:Etc/GMT-1
BEGIN:STANDARD
DTSTART:20010101T000000
TZOFFSETFROM:+0100
TZOFFSETTO:+0100
TZNAME:GMT +01:00
END:STANDARD
END:VTIMEZONE
BEGIN:VEVENT
UID:20260422T165017CEST-1939rr636f@horsealert.local
DTSTAMP:20260422T140417Z
CATEGORIES:Horse Alerts
DESCRIPTION:La Nonette Beachcomber Hotels Le Royal Palm Ile Mauric Group 2
DTSTART:20160823T132000
LOCATION:France
SUMMARY:Horse Racing:La Nonette Beachcomber Hotels Le Royal Palm Ile Mauric
  Group 2
END:VEVENT
END:VCALENDAR
