BEGIN:VCALENDAR
VERSION:2.0
PRODID:-//horsealert.local//NONSGML kigkonsult.se iCalcreator 2.10.5//
CALSCALE:GREGORIAN
X-WR-TIMEZONE:Europe/Dublin
BEGIN:VTIMEZONE
TZID:Etc/GMT-1
BEGIN:STANDARD
DTSTART:20010101T000000
TZOFFSETFROM:+0100
TZOFFSETTO:+0100
TZNAME:GMT +01:00
END:STANDARD
END:VTIMEZONE
BEGIN:VEVENT
UID:20260422T165317CEST-3823vcGtiJ@horsealert.local
DTSTAMP:20260422T140417Z
CATEGORIES:Horse Alerts
DESCRIPTION:Collect Any totepool Winnings At Betfred Shops Conditional Jock
 eys Maiden Hurdle
DTSTART:20160821T172000
LOCATION:England
SUMMARY:Horse Racing:Collect Any totepool Winnings At Betfred Shops Conditi
 onal Jockeys Maiden Hurdle
END:VEVENT
END:VCALENDAR
