BEGIN:VCALENDAR
VERSION:2.0
PRODID:-//horsealert.local//NONSGML kigkonsult.se iCalcreator 2.10.5//
CALSCALE:GREGORIAN
X-WR-TIMEZONE:Europe/Dublin
BEGIN:VTIMEZONE
TZID:Etc/GMT-1
BEGIN:STANDARD
DTSTART:20010101T000000
TZOFFSETFROM:+0100
TZOFFSETTO:+0100
TZNAME:GMT +01:00
END:STANDARD
END:VTIMEZONE
BEGIN:VEVENT
UID:20260422T164436CEST-3908EIAV0R@horsealert.local
DTSTAMP:20260422T140436Z
CATEGORIES:Horse Alerts
DESCRIPTION:Sandown - Arab Race - HH Sheikha Fatima Bint Mubarak Ladies Wor
 ld Championship (IFAHR)
DTSTART:20160819T134500
LOCATION:England
SUMMARY:Horse Racing:Sandown - Arab Race - HH Sheikha Fatima Bint Mubarak L
 adies World Championship (IFAHR)
END:VEVENT
END:VCALENDAR
