BEGIN:VCALENDAR
VERSION:2.0
PRODID:-//horsealert.local//NONSGML kigkonsult.se iCalcreator 2.10.5//
CALSCALE:GREGORIAN
X-WR-TIMEZONE:Europe/Dublin
BEGIN:VTIMEZONE
TZID:Etc/GMT-1
BEGIN:STANDARD
DTSTART:20010101T000000
TZOFFSETFROM:+0100
TZOFFSETTO:+0100
TZNAME:GMT +01:00
END:STANDARD
END:VTIMEZONE
BEGIN:VEVENT
UID:20260422T164513CEST-5260nFW0vX@horsealert.local
DTSTAMP:20260422T140413Z
CATEGORIES:Horse Alerts
DESCRIPTION:Sky Bet City Of York Stakes (Group 3)
DTSTART:20160819T150500
LOCATION:England
SUMMARY:Horse Racing:Sky Bet City Of York Stakes (Group 3)
END:VEVENT
END:VCALENDAR
