BEGIN:VCALENDAR
VERSION:2.0
PRODID:-//horsealert.local//NONSGML kigkonsult.se iCalcreator 2.10.5//
CALSCALE:GREGORIAN
X-WR-TIMEZONE:Europe/Dublin
BEGIN:VTIMEZONE
TZID:Etc/GMT-1
BEGIN:STANDARD
DTSTART:20010101T000000
TZOFFSETFROM:+0100
TZOFFSETTO:+0100
TZNAME:GMT +01:00
END:STANDARD
END:VTIMEZONE
BEGIN:VEVENT
UID:20260422T165134CEST-0786gPRcIe@horsealert.local
DTSTAMP:20260422T140434Z
CATEGORIES:Horse Alerts
DESCRIPTION:All-Weather Riding Surfaces From Equestrian Surfaces Maiden Sta
 kes
DTSTART:20160817T153000
LOCATION:Wales
SUMMARY:Horse Racing:All-Weather Riding Surfaces From Equestrian Surfaces M
 aiden Stakes
END:VEVENT
END:VCALENDAR
