BEGIN:VCALENDAR
VERSION:2.0
PRODID:-//horsealert.local//NONSGML kigkonsult.se iCalcreator 2.10.5//
CALSCALE:GREGORIAN
X-WR-TIMEZONE:Europe/Dublin
BEGIN:VTIMEZONE
TZID:Etc/GMT-1
BEGIN:STANDARD
DTSTART:20010101T000000
TZOFFSETFROM:+0100
TZOFFSETTO:+0100
TZNAME:GMT +01:00
END:STANDARD
END:VTIMEZONE
BEGIN:VEVENT
UID:20260422T164818CEST-1266spVT5H@horsealert.local
DTSTAMP:20260422T140418Z
CATEGORIES:Horse Alerts
DESCRIPTION:Racing Again At Tipperary On August 25th Handicap Hurdle (80-95
 )
DTSTART:20160816T202000
LOCATION:Eire
SUMMARY:Horse Racing:Racing Again At Tipperary On August 25th Handicap Hurd
 le (80-95)
END:VEVENT
END:VCALENDAR
