BEGIN:VCALENDAR
VERSION:2.0
PRODID:-//horsealert.local//NONSGML kigkonsult.se iCalcreator 2.10.5//
CALSCALE:GREGORIAN
X-WR-TIMEZONE:Europe/Dublin
BEGIN:VTIMEZONE
TZID:Etc/GMT-1
BEGIN:STANDARD
DTSTART:20010101T000000
TZOFFSETFROM:+0100
TZOFFSETTO:+0100
TZNAME:GMT +01:00
END:STANDARD
END:VTIMEZONE
BEGIN:VEVENT
UID:20260422T165209CEST-0656EvHsmi@horsealert.local
DTSTAMP:20260422T140409Z
CATEGORIES:Horse Alerts
DESCRIPTION:Pyramid Bookmakers Handicap
DTSTART:20160815T195000
LOCATION:Eire
SUMMARY:Horse Racing:Pyramid Bookmakers Handicap
END:VEVENT
END:VCALENDAR
