BEGIN:VCALENDAR
VERSION:2.0
PRODID:-//horsealert.local//NONSGML kigkonsult.se iCalcreator 2.10.5//
CALSCALE:GREGORIAN
X-WR-TIMEZONE:Europe/Dublin
BEGIN:VTIMEZONE
TZID:Etc/GMT-1
BEGIN:STANDARD
DTSTART:20010101T000000
TZOFFSETFROM:+0100
TZOFFSETTO:+0100
TZNAME:GMT +01:00
END:STANDARD
END:VTIMEZONE
BEGIN:VEVENT
UID:20260422T165312CEST-9233sJOnTr@horsealert.local
DTSTAMP:20260422T140412Z
CATEGORIES:Horse Alerts
DESCRIPTION:Listers Smart Fortwo 'Hands And Heels' Selling Hurdle (Conditio
 nals/Amateurs)
DTSTART:20160813T174000
LOCATION:England
SUMMARY:Horse Racing:Listers Smart Fortwo 'Hands And Heels' Selling Hurdle 
 (Conditionals/Amateurs)
END:VEVENT
END:VCALENDAR
