BEGIN:VCALENDAR
VERSION:2.0
PRODID:-//horsealert.local//NONSGML kigkonsult.se iCalcreator 2.10.5//
CALSCALE:GREGORIAN
X-WR-TIMEZONE:Europe/Dublin
BEGIN:VTIMEZONE
TZID:Etc/GMT-1
BEGIN:STANDARD
DTSTART:20010101T000000
TZOFFSETFROM:+0100
TZOFFSETTO:+0100
TZNAME:GMT +01:00
END:STANDARD
END:VTIMEZONE
BEGIN:VEVENT
UID:20260422T165147CEST-1592Z3uh7W@horsealert.local
DTSTAMP:20260422T140447Z
CATEGORIES:Horse Alerts
DESCRIPTION:Newbury - Arab Race - Royal Cavalry of Oman Clarendon Stakes (G
 roup 2 PA)
DTSTART:20160813T132500
LOCATION:England
SUMMARY:Horse Racing:Newbury - Arab Race - Royal Cavalry of Oman Clarendon 
 Stakes (Group 2 PA)
END:VEVENT
END:VCALENDAR
