BEGIN:VCALENDAR
VERSION:2.0
PRODID:-//horsealert.local//NONSGML kigkonsult.se iCalcreator 2.10.5//
CALSCALE:GREGORIAN
X-WR-TIMEZONE:Europe/Dublin
BEGIN:VTIMEZONE
TZID:Etc/GMT-1
BEGIN:STANDARD
DTSTART:20010101T000000
TZOFFSETFROM:+0100
TZOFFSETTO:+0100
TZNAME:GMT +01:00
END:STANDARD
END:VTIMEZONE
BEGIN:VEVENT
UID:20260422T165022CEST-0176CpcEuk@horsealert.local
DTSTAMP:20260422T140422Z
CATEGORIES:Horse Alerts
DESCRIPTION:Don Deadman Memorial EBF Stallions Maiden Stakes (Plus 10) (Str
 )
DTSTART:20160812T142000
LOCATION:England
SUMMARY:Horse Racing:Don Deadman Memorial EBF Stallions Maiden Stakes (Plus
  10) (Str)
END:VEVENT
END:VCALENDAR
