BEGIN:VCALENDAR
VERSION:2.0
PRODID:-//horsealert.local//NONSGML kigkonsult.se iCalcreator 2.10.5//
CALSCALE:GREGORIAN
X-WR-TIMEZONE:Europe/Dublin
BEGIN:VTIMEZONE
TZID:Etc/GMT-1
BEGIN:STANDARD
DTSTART:20010101T000000
TZOFFSETFROM:+0100
TZOFFSETTO:+0100
TZNAME:GMT +01:00
END:STANDARD
END:VTIMEZONE
BEGIN:VEVENT
UID:20260422T165147CEST-79597GUWZH@horsealert.local
DTSTAMP:20260422T140447Z
CATEGORIES:Horse Alerts
DESCRIPTION:Direct Insurance London Market Handicap Hurdle
DTSTART:20160811T182000
LOCATION:England
SUMMARY:Horse Racing:Direct Insurance London Market Handicap Hurdle
END:VEVENT
END:VCALENDAR
