BEGIN:VCALENDAR
VERSION:2.0
PRODID:-//horsealert.local//NONSGML kigkonsult.se iCalcreator 2.10.5//
CALSCALE:GREGORIAN
X-WR-TIMEZONE:Europe/Dublin
BEGIN:VTIMEZONE
TZID:Etc/GMT-1
BEGIN:STANDARD
DTSTART:20010101T000000
TZOFFSETFROM:+0100
TZOFFSETTO:+0100
TZNAME:GMT +01:00
END:STANDARD
END:VTIMEZONE
BEGIN:VEVENT
UID:20260422T164719CEST-9902G5vVSd@horsealert.local
DTSTAMP:20260422T140419Z
CATEGORIES:Horse Alerts
DESCRIPTION:Margaret And Brian Marchant Diamond Wedding Anniversary Handica
 p
DTSTART:20160811T162000
LOCATION:England
SUMMARY:Horse Racing:Margaret And Brian Marchant Diamond Wedding Anniversar
 y Handicap
END:VEVENT
END:VCALENDAR
