BEGIN:VCALENDAR
VERSION:2.0
PRODID:-//horsealert.local//NONSGML kigkonsult.se iCalcreator 2.10.5//
CALSCALE:GREGORIAN
X-WR-TIMEZONE:Europe/Dublin
BEGIN:VTIMEZONE
TZID:Etc/GMT-1
BEGIN:STANDARD
DTSTART:20010101T000000
TZOFFSETFROM:+0100
TZOFFSETTO:+0100
TZNAME:GMT +01:00
END:STANDARD
END:VTIMEZONE
BEGIN:VEVENT
UID:20260422T164803CEST-9622HKpcSg@horsealert.local
DTSTAMP:20260422T140403Z
CATEGORIES:Horse Alerts
DESCRIPTION:Happy 50th Birthday Kim Dash Handicap (Bath Summer Sprint Serie
 s Qualifier)
DTSTART:20160810T172000
LOCATION:England
SUMMARY:Horse Racing:Happy 50th Birthday Kim Dash Handicap (Bath Summer Spr
 int Series Qualifier)
END:VEVENT
END:VCALENDAR
