BEGIN:VCALENDAR
VERSION:2.0
PRODID:-//horsealert.local//NONSGML kigkonsult.se iCalcreator 2.10.5//
CALSCALE:GREGORIAN
X-WR-TIMEZONE:Europe/Dublin
BEGIN:VTIMEZONE
TZID:Etc/GMT-1
BEGIN:STANDARD
DTSTART:20010101T000000
TZOFFSETFROM:+0100
TZOFFSETTO:+0100
TZNAME:GMT +01:00
END:STANDARD
END:VTIMEZONE
BEGIN:VEVENT
UID:20260422T164920CEST-9958W0T1xt@horsealert.local
DTSTAMP:20260422T140420Z
CATEGORIES:Horse Alerts
DESCRIPTION:FCL Global Forwarding EBF Stallions Maiden Fillies' Stakes
DTSTART:20160808T141500
LOCATION:England
SUMMARY:Horse Racing:FCL Global Forwarding EBF Stallions Maiden Fillies' St
 akes
END:VEVENT
END:VCALENDAR
