BEGIN:VCALENDAR
VERSION:2.0
PRODID:-//horsealert.local//NONSGML kigkonsult.se iCalcreator 2.10.5//
CALSCALE:GREGORIAN
X-WR-TIMEZONE:Europe/Dublin
BEGIN:VTIMEZONE
TZID:Etc/GMT-1
BEGIN:STANDARD
DTSTART:20010101T000000
TZOFFSETFROM:+0100
TZOFFSETTO:+0100
TZNAME:GMT +01:00
END:STANDARD
END:VTIMEZONE
BEGIN:VEVENT
UID:20260422T165018CEST-7402KsK71d@horsealert.local
DTSTAMP:20260422T140418Z
CATEGORIES:Horse Alerts
DESCRIPTION:Buy\, Breed And Train In Germany Handicap
DTSTART:20160806T155000
LOCATION:England
SUMMARY:Horse Racing:Buy\, Breed And Train In Germany Handicap
END:VEVENT
END:VCALENDAR
