BEGIN:VCALENDAR
VERSION:2.0
PRODID:-//horsealert.local//NONSGML kigkonsult.se iCalcreator 2.10.5//
CALSCALE:GREGORIAN
X-WR-TIMEZONE:Europe/Dublin
BEGIN:VTIMEZONE
TZID:Etc/GMT-1
BEGIN:STANDARD
DTSTART:20010101T000000
TZOFFSETFROM:+0100
TZOFFSETTO:+0100
TZNAME:GMT +01:00
END:STANDARD
END:VTIMEZONE
BEGIN:VEVENT
UID:20260422T164804CEST-4131I6kPiD@horsealert.local
DTSTAMP:20260422T140404Z
CATEGORIES:Horse Alerts
DESCRIPTION:Betfred Haydock Park Ladies' Trophy Handicap (Pro-Am Lady Rider
 s' Race)
DTSTART:20160806T143500
LOCATION:England
SUMMARY:Horse Racing:Betfred Haydock Park Ladies' Trophy Handicap (Pro-Am L
 ady Riders' Race)
END:VEVENT
END:VCALENDAR
