BEGIN:VCALENDAR
VERSION:2.0
PRODID:-//horsealert.local//NONSGML kigkonsult.se iCalcreator 2.10.5//
CALSCALE:GREGORIAN
X-WR-TIMEZONE:Europe/Dublin
BEGIN:VTIMEZONE
TZID:Etc/GMT-1
BEGIN:STANDARD
DTSTART:20010101T000000
TZOFFSETFROM:+0100
TZOFFSETTO:+0100
TZNAME:GMT +01:00
END:STANDARD
END:VTIMEZONE
BEGIN:VEVENT
UID:20260422T164812CEST-0300KeE9xa@horsealert.local
DTSTAMP:20260422T140412Z
CATEGORIES:Horse Alerts
DESCRIPTION:QTS Investors In Young People Lady Riders' Handicap (Profession
 al And Amateur Lady Riders)
DTSTART:20160806T174000
LOCATION:Scotland
SUMMARY:Horse Racing:QTS Investors In Young People Lady Riders' Handicap (P
 rofessional And Amateur Lady Riders)
END:VEVENT
END:VCALENDAR
