BEGIN:VCALENDAR
VERSION:2.0
PRODID:-//horsealert.local//NONSGML kigkonsult.se iCalcreator 2.10.5//
CALSCALE:GREGORIAN
X-WR-TIMEZONE:Europe/Dublin
BEGIN:VTIMEZONE
TZID:Etc/GMT-1
BEGIN:STANDARD
DTSTART:20010101T000000
TZOFFSETFROM:+0100
TZOFFSETTO:+0100
TZNAME:GMT +01:00
END:STANDARD
END:VTIMEZONE
BEGIN:VEVENT
UID:20260422T165130CEST-8987XITrj3@horsealert.local
DTSTAMP:20260422T140430Z
CATEGORIES:Horse Alerts
DESCRIPTION:John Smith's Brighton Mile Challenge Trophy (Handicap)
DTSTART:20160803T152000
LOCATION:England
SUMMARY:Horse Racing:John Smith's Brighton Mile Challenge Trophy (Handicap)
END:VEVENT
END:VCALENDAR
