BEGIN:VCALENDAR
VERSION:2.0
PRODID:-//horsealert.local//NONSGML kigkonsult.se iCalcreator 2.10.5//
CALSCALE:GREGORIAN
X-WR-TIMEZONE:Europe/Dublin
BEGIN:VTIMEZONE
TZID:Etc/GMT-1
BEGIN:STANDARD
DTSTART:20010101T000000
TZOFFSETFROM:+0100
TZOFFSETTO:+0100
TZNAME:GMT +01:00
END:STANDARD
END:VTIMEZONE
BEGIN:VEVENT
UID:20260422T165313CEST-2820fSUvlJ@horsealert.local
DTSTAMP:20260422T140413Z
CATEGORIES:Horse Alerts
DESCRIPTION:Compare Bookies At bookies.com (Pro-Am Lady Riders' Race) Ladie
 s Riders' Handicap
DTSTART:20160801T201500
LOCATION:England
SUMMARY:Horse Racing:Compare Bookies At bookies.com (Pro-Am Lady Riders' Ra
 ce) Ladies Riders' Handicap
END:VEVENT
END:VCALENDAR
