BEGIN:VCALENDAR
VERSION:2.0
PRODID:-//horsealert.local//NONSGML kigkonsult.se iCalcreator 2.10.5//
CALSCALE:GREGORIAN
X-WR-TIMEZONE:Europe/Dublin
BEGIN:VTIMEZONE
TZID:Etc/GMT-1
BEGIN:STANDARD
DTSTART:20010101T000000
TZOFFSETFROM:+0100
TZOFFSETTO:+0100
TZNAME:GMT +01:00
END:STANDARD
END:VTIMEZONE
BEGIN:VEVENT
UID:20260422T164326CEST-7118knvnvt@horsealert.local
DTSTAMP:20260422T140426Z
CATEGORIES:Horse Alerts
DESCRIPTION:Compare Horse Racing At bookies.com (Pro-Am Lady Riders' Race) 
 Ladies Riders' Handicap
DTSTART:20160801T184500
LOCATION:England
SUMMARY:Horse Racing:Compare Horse Racing At bookies.com (Pro-Am Lady Rider
 s' Race) Ladies Riders' Handicap
END:VEVENT
END:VCALENDAR
