BEGIN:VCALENDAR
VERSION:2.0
PRODID:-//horsealert.local//NONSGML kigkonsult.se iCalcreator 2.10.5//
CALSCALE:GREGORIAN
X-WR-TIMEZONE:Europe/Dublin
BEGIN:VTIMEZONE
TZID:Etc/GMT-1
BEGIN:STANDARD
DTSTART:20010101T000000
TZOFFSETFROM:+0100
TZOFFSETTO:+0100
TZNAME:GMT +01:00
END:STANDARD
END:VTIMEZONE
BEGIN:VEVENT
UID:20260422T182649CEST-9919UNP0P0@horsealert.local
DTSTAMP:20260422T160449Z
CATEGORIES:Horse Alerts
DESCRIPTION:Chitty Chitty Bang Bang At The Lowry Nursery
DTSTART:20160731T144000
LOCATION:England
SUMMARY:Horse Racing:Chitty Chitty Bang Bang At The Lowry Nursery
END:VEVENT
END:VCALENDAR
