BEGIN:VCALENDAR
VERSION:2.0
PRODID:-//horsealert.local//NONSGML kigkonsult.se iCalcreator 2.10.5//
CALSCALE:GREGORIAN
X-WR-TIMEZONE:Europe/Dublin
BEGIN:VTIMEZONE
TZID:Etc/GMT-1
BEGIN:STANDARD
DTSTART:20010101T000000
TZOFFSETFROM:+0100
TZOFFSETTO:+0100
TZNAME:GMT +01:00
END:STANDARD
END:VTIMEZONE
BEGIN:VEVENT
UID:20260422T182015CEST-3887cvBrfv@horsealert.local
DTSTAMP:20260422T160415Z
CATEGORIES:Horse Alerts
DESCRIPTION:Potter Group Equestrian Carpet Fibre Surfaces Maiden Auction St
 akes (Plus 10)
DTSTART:20160731T140000
LOCATION:Wales
SUMMARY:Horse Racing:Potter Group Equestrian Carpet Fibre Surfaces Maiden A
 uction Stakes (Plus 10)
END:VEVENT
END:VCALENDAR
