BEGIN:VCALENDAR
VERSION:2.0
PRODID:-//horsealert.local//NONSGML kigkonsult.se iCalcreator 2.10.5//
CALSCALE:GREGORIAN
X-WR-TIMEZONE:Europe/Dublin
BEGIN:VTIMEZONE
TZID:Etc/GMT-1
BEGIN:STANDARD
DTSTART:20010101T000000
TZOFFSETFROM:+0100
TZOFFSETTO:+0100
TZNAME:GMT +01:00
END:STANDARD
END:VTIMEZONE
BEGIN:VEVENT
UID:20260422T182634CEST-5703bVbScf@horsealert.local
DTSTAMP:20260422T160434Z
CATEGORIES:Horse Alerts
DESCRIPTION:Symonds Founders Reserve Handicap (Bath Summer Stayers' Series 
 Qualifier)
DTSTART:20160729T183500
LOCATION:England
SUMMARY:Horse Racing:Symonds Founders Reserve Handicap (Bath Summer Stayers
 ' Series Qualifier)
END:VEVENT
END:VCALENDAR
