BEGIN:VCALENDAR
VERSION:2.0
PRODID:-//horsealert.local//NONSGML kigkonsult.se iCalcreator 2.10.5//
CALSCALE:GREGORIAN
X-WR-TIMEZONE:Europe/Dublin
BEGIN:VTIMEZONE
TZID:Etc/GMT-1
BEGIN:STANDARD
DTSTART:20010101T000000
TZOFFSETFROM:+0100
TZOFFSETTO:+0100
TZNAME:GMT +01:00
END:STANDARD
END:VTIMEZONE
BEGIN:VEVENT
UID:20260422T182534CEST-2606SHHMrV@horsealert.local
DTSTAMP:20260422T160434Z
CATEGORIES:Horse Alerts
DESCRIPTION:Gews Ltd Handicap
DTSTART:20160728T191500
LOCATION:Wales
SUMMARY:Horse Racing:Gews Ltd Handicap
END:VEVENT
END:VCALENDAR
