BEGIN:VCALENDAR
VERSION:2.0
PRODID:-//horsealert.local//NONSGML kigkonsult.se iCalcreator 2.10.5//
CALSCALE:GREGORIAN
X-WR-TIMEZONE:Europe/Dublin
BEGIN:VTIMEZONE
TZID:Etc/GMT-1
BEGIN:STANDARD
DTSTART:20010101T000000
TZOFFSETFROM:+0100
TZOFFSETTO:+0100
TZNAME:GMT +01:00
END:STANDARD
END:VTIMEZONE
BEGIN:VEVENT
UID:20260422T182301CEST-9639WWPA3x@horsealert.local
DTSTAMP:20260422T160401Z
CATEGORIES:Horse Alerts
DESCRIPTION:Pinnacle Racing Shares Available Now Handicap (Qualifier For Pi
 nnacle Cup Straight Mile Series Final)
DTSTART:20160727T160500
LOCATION:England
SUMMARY:Horse Racing:Pinnacle Racing Shares Available Now Handicap (Qualifi
 er For Pinnacle Cup Straight Mile Series Final)
END:VEVENT
END:VCALENDAR
