BEGIN:VCALENDAR
VERSION:2.0
PRODID:-//horsealert.local//NONSGML kigkonsult.se iCalcreator 2.10.5//
CALSCALE:GREGORIAN
X-WR-TIMEZONE:Europe/Dublin
BEGIN:VTIMEZONE
TZID:Etc/GMT-1
BEGIN:STANDARD
DTSTART:20010101T000000
TZOFFSETFROM:+0100
TZOFFSETTO:+0100
TZNAME:GMT +01:00
END:STANDARD
END:VTIMEZONE
BEGIN:VEVENT
UID:20260422T182511CEST-6240ivmSvD@horsealert.local
DTSTAMP:20260422T160411Z
CATEGORIES:Horse Alerts
DESCRIPTION:Sky Bet Windsor Series Fillies' Handicap (Qualifier For The Win
 dsor Sprint Series Final)
DTSTART:20160725T190000
LOCATION:England
SUMMARY:Horse Racing:Sky Bet Windsor Series Fillies' Handicap (Qualifier Fo
 r The Windsor Sprint Series Final)
END:VEVENT
END:VCALENDAR
