BEGIN:VCALENDAR
VERSION:2.0
PRODID:-//horsealert.local//NONSGML kigkonsult.se iCalcreator 2.10.5//
CALSCALE:GREGORIAN
X-WR-TIMEZONE:Europe/Dublin
BEGIN:VTIMEZONE
TZID:Etc/GMT-1
BEGIN:STANDARD
DTSTART:20010101T000000
TZOFFSETFROM:+0100
TZOFFSETTO:+0100
TZNAME:GMT +01:00
END:STANDARD
END:VTIMEZONE
BEGIN:VEVENT
UID:20260422T182505CEST-3677vXigtu@horsealert.local
DTSTAMP:20260422T160405Z
CATEGORIES:Horse Alerts
DESCRIPTION:Wooldridge Group Pat Eddery Stakes (Listed) (Formerly Known As 
 The Winkfield Stakes)
DTSTART:20160723T141000
LOCATION:England
SUMMARY:Horse Racing:Wooldridge Group Pat Eddery Stakes (Listed) (Formerly 
 Known As The Winkfield Stakes)
END:VEVENT
END:VCALENDAR
