BEGIN:VCALENDAR
VERSION:2.0
PRODID:-//horsealert.local//NONSGML kigkonsult.se iCalcreator 2.10.5//
CALSCALE:GREGORIAN
X-WR-TIMEZONE:Europe/Dublin
BEGIN:VTIMEZONE
TZID:Etc/GMT-1
BEGIN:STANDARD
DTSTART:20010101T000000
TZOFFSETFROM:+0100
TZOFFSETTO:+0100
TZNAME:GMT +01:00
END:STANDARD
END:VTIMEZONE
BEGIN:VEVENT
UID:20260422T182502CEST-3472FfVn7n@horsealert.local
DTSTAMP:20260422T160402Z
CATEGORIES:Horse Alerts
DESCRIPTION:Magners This Is Our Time Fillies Maiden
DTSTART:20160722T200500
LOCATION:Northern Ireland
SUMMARY:Horse Racing:Magners This Is Our Time Fillies Maiden
END:VEVENT
END:VCALENDAR
