BEGIN:VCALENDAR
VERSION:2.0
PRODID:-//horsealert.local//NONSGML kigkonsult.se iCalcreator 2.10.5//
CALSCALE:GREGORIAN
X-WR-TIMEZONE:Europe/Dublin
BEGIN:VTIMEZONE
TZID:Etc/GMT-1
BEGIN:STANDARD
DTSTART:20010101T000000
TZOFFSETFROM:+0100
TZOFFSETTO:+0100
TZNAME:GMT +01:00
END:STANDARD
END:VTIMEZONE
BEGIN:VEVENT
UID:20260422T182613CEST-9880foMcbp@horsealert.local
DTSTAMP:20260422T160413Z
CATEGORIES:Horse Alerts
DESCRIPTION:Anders Foundation EBF Stallions Crocker Bulteel Maiden Stakes (
 Plus 10)
DTSTART:20160722T142000
LOCATION:England
SUMMARY:Horse Racing:Anders Foundation EBF Stallions Crocker Bulteel Maiden
  Stakes (Plus 10)
END:VEVENT
END:VCALENDAR
