BEGIN:VCALENDAR
VERSION:2.0
PRODID:-//horsealert.local//NONSGML kigkonsult.se iCalcreator 2.10.5//
CALSCALE:GREGORIAN
X-WR-TIMEZONE:Europe/Dublin
BEGIN:VTIMEZONE
TZID:Etc/GMT-1
BEGIN:STANDARD
DTSTART:20010101T000000
TZOFFSETFROM:+0100
TZOFFSETTO:+0100
TZNAME:GMT +01:00
END:STANDARD
END:VTIMEZONE
BEGIN:VEVENT
UID:20260422T182155CEST-7336SxVvJv@horsealert.local
DTSTAMP:20260422T160455Z
CATEGORIES:Horse Alerts
DESCRIPTION:Bolero Bar - No 35 And Tonic Handicap Hurdle
DTSTART:20160721T153000
LOCATION:England
SUMMARY:Horse Racing:Bolero Bar - No 35 And Tonic Handicap Hurdle
END:VEVENT
END:VCALENDAR
