BEGIN:VCALENDAR
VERSION:2.0
PRODID:-//horsealert.local//NONSGML kigkonsult.se iCalcreator 2.10.5//
CALSCALE:GREGORIAN
X-WR-TIMEZONE:Europe/Dublin
BEGIN:VTIMEZONE
TZID:Etc/GMT-1
BEGIN:STANDARD
DTSTART:20010101T000000
TZOFFSETFROM:+0100
TZOFFSETTO:+0100
TZNAME:GMT +01:00
END:STANDARD
END:VTIMEZONE
BEGIN:VEVENT
UID:20260422T182343CEST-2028SuuuNx@horsealert.local
DTSTAMP:20260422T160443Z
CATEGORIES:Horse Alerts
DESCRIPTION:Limerick's Live 95FM Mares Beginners Chase
DTSTART:20160721T201500
LOCATION:Eire
SUMMARY:Horse Racing:Limerick's Live 95FM Mares Beginners Chase
END:VEVENT
END:VCALENDAR
