BEGIN:VCALENDAR
VERSION:2.0
PRODID:-//horsealert.local//NONSGML kigkonsult.se iCalcreator 2.10.5//
CALSCALE:GREGORIAN
X-WR-TIMEZONE:Europe/Dublin
BEGIN:VTIMEZONE
TZID:Etc/GMT-1
BEGIN:STANDARD
DTSTART:20010101T000000
TZOFFSETFROM:+0100
TZOFFSETTO:+0100
TZNAME:GMT +01:00
END:STANDARD
END:VTIMEZONE
BEGIN:VEVENT
UID:20260422T182054CEST-6998TNLueu@horsealert.local
DTSTAMP:20260422T160454Z
CATEGORIES:Horse Alerts
DESCRIPTION:catterickbridge.co.uk Apprentice Training Series Handicap (Part
  Of The Racing Excellence Initiative)
DTSTART:20160720T173000
LOCATION:England
SUMMARY:Horse Racing:catterickbridge.co.uk Apprentice Training Series Handi
 cap (Part Of The Racing Excellence Initiative)
END:VEVENT
END:VCALENDAR
