BEGIN:VCALENDAR
VERSION:2.0
PRODID:-//horsealert.local//NONSGML kigkonsult.se iCalcreator 2.10.5//
CALSCALE:GREGORIAN
X-WR-TIMEZONE:Europe/Dublin
BEGIN:VTIMEZONE
TZID:Etc/GMT-1
BEGIN:STANDARD
DTSTART:20010101T000000
TZOFFSETFROM:+0100
TZOFFSETTO:+0100
TZNAME:GMT +01:00
END:STANDARD
END:VTIMEZONE
BEGIN:VEVENT
UID:20260422T182001CEST-9421lMd0Wr@horsealert.local
DTSTAMP:20260422T160401Z
CATEGORIES:Horse Alerts
DESCRIPTION:Summer Festival Supporting Jack Berry House Nursery
DTSTART:20160720T150000
LOCATION:England
SUMMARY:Horse Racing:Summer Festival Supporting Jack Berry House Nursery
END:VEVENT
END:VCALENDAR
