BEGIN:VCALENDAR
VERSION:2.0
PRODID:-//horsealert.local//NONSGML kigkonsult.se iCalcreator 2.10.5//
CALSCALE:GREGORIAN
X-WR-TIMEZONE:Europe/Dublin
BEGIN:VTIMEZONE
TZID:Etc/GMT-1
BEGIN:STANDARD
DTSTART:20010101T000000
TZOFFSETFROM:+0100
TZOFFSETTO:+0100
TZNAME:GMT +01:00
END:STANDARD
END:VTIMEZONE
BEGIN:VEVENT
UID:20260422T182652CEST-2152a6s65L@horsealert.local
DTSTAMP:20260422T160452Z
CATEGORIES:Horse Alerts
DESCRIPTION:racinguk.com Racing Excellence Apprentice Training Series Handi
 cap
DTSTART:20160719T174000
LOCATION:England
SUMMARY:Horse Racing:racinguk.com Racing Excellence Apprentice Training Ser
 ies Handicap
END:VEVENT
END:VCALENDAR
