BEGIN:VCALENDAR
VERSION:2.0
PRODID:-//horsealert.local//NONSGML kigkonsult.se iCalcreator 2.10.5//
CALSCALE:GREGORIAN
X-WR-TIMEZONE:Europe/Dublin
BEGIN:VTIMEZONE
TZID:Etc/GMT-1
BEGIN:STANDARD
DTSTART:20010101T000000
TZOFFSETFROM:+0100
TZOFFSETTO:+0100
TZNAME:GMT +01:00
END:STANDARD
END:VTIMEZONE
BEGIN:VEVENT
UID:20260422T182014CEST-0205xPvmU5@horsealert.local
DTSTAMP:20260422T160414Z
CATEGORIES:Horse Alerts
DESCRIPTION:Tote Super Pick 6 Guarantee Every Sunday Handicap (45-75)
DTSTART:20160718T185500
LOCATION:Eire
SUMMARY:Horse Racing:Tote Super Pick 6 Guarantee Every Sunday Handicap (45-
 75)
END:VEVENT
END:VCALENDAR
