BEGIN:VCALENDAR
VERSION:2.0
PRODID:-//horsealert.local//NONSGML kigkonsult.se iCalcreator 2.10.5//
CALSCALE:GREGORIAN
X-WR-TIMEZONE:Europe/Dublin
BEGIN:VTIMEZONE
TZID:Etc/GMT-1
BEGIN:STANDARD
DTSTART:20010101T000000
TZOFFSETFROM:+0100
TZOFFSETTO:+0100
TZNAME:GMT +01:00
END:STANDARD
END:VTIMEZONE
BEGIN:VEVENT
UID:20260422T182050CEST-7230jUSbw1@horsealert.local
DTSTAMP:20260422T160450Z
CATEGORIES:Horse Alerts
DESCRIPTION:Packie Downey Memorial Handicap Chase (0-109)
DTSTART:20160717T171000
LOCATION:Eire
SUMMARY:Horse Racing:Packie Downey Memorial Handicap Chase (0-109)
END:VEVENT
END:VCALENDAR
