BEGIN:VCALENDAR
VERSION:2.0
PRODID:-//horsealert.local//NONSGML kigkonsult.se iCalcreator 2.10.5//
CALSCALE:GREGORIAN
X-WR-TIMEZONE:Europe/Dublin
BEGIN:VTIMEZONE
TZID:Etc/GMT-1
BEGIN:STANDARD
DTSTART:20010101T000000
TZOFFSETFROM:+0100
TZOFFSETTO:+0100
TZNAME:GMT +01:00
END:STANDARD
END:VTIMEZONE
BEGIN:VEVENT
UID:20260422T182132CEST-4539o9sC06@horsealert.local
DTSTAMP:20260422T160432Z
CATEGORIES:Horse Alerts
DESCRIPTION:F. B. Taylor 50th Anniversary Cup (Handicap)
DTSTART:20160716T165000
LOCATION:England
SUMMARY:Horse Racing:F. B. Taylor 50th Anniversary Cup (Handicap)
END:VEVENT
END:VCALENDAR
