BEGIN:VCALENDAR
VERSION:2.0
PRODID:-//horsealert.local//NONSGML kigkonsult.se iCalcreator 2.10.5//
CALSCALE:GREGORIAN
X-WR-TIMEZONE:Europe/Dublin
BEGIN:VTIMEZONE
TZID:Etc/GMT-1
BEGIN:STANDARD
DTSTART:20010101T000000
TZOFFSETFROM:+0100
TZOFFSETTO:+0100
TZNAME:GMT +01:00
END:STANDARD
END:VTIMEZONE
BEGIN:VEVENT
UID:20260422T182017CEST-7542vIxC2u@horsealert.local
DTSTAMP:20260422T160417Z
CATEGORIES:Horse Alerts
DESCRIPTION:Newsells Park Stud Stakes (Fillies' Listed) (Registered As The 
 Aphrodite Stakes)
DTSTART:20160716T155000
LOCATION:England
SUMMARY:Horse Racing:Newsells Park Stud Stakes (Fillies' Listed) (Registere
 d As The Aphrodite Stakes)
END:VEVENT
END:VCALENDAR
