BEGIN:VCALENDAR
VERSION:2.0
PRODID:-//horsealert.local//NONSGML kigkonsult.se iCalcreator 2.10.5//
CALSCALE:GREGORIAN
X-WR-TIMEZONE:Europe/Dublin
BEGIN:VTIMEZONE
TZID:Etc/GMT-1
BEGIN:STANDARD
DTSTART:20010101T000000
TZOFFSETFROM:+0100
TZOFFSETTO:+0100
TZNAME:GMT +01:00
END:STANDARD
END:VTIMEZONE
BEGIN:VEVENT
UID:20260422T182155CEST-9116vExCMX@horsealert.local
DTSTAMP:20260422T160455Z
CATEGORIES:Horse Alerts
DESCRIPTION:Cross Country De Dieppe Cross Country
DTSTART:20160714T141500
LOCATION:France
SUMMARY:Horse Racing:Cross Country De Dieppe Cross Country
END:VEVENT
END:VCALENDAR
