BEGIN:VCALENDAR
VERSION:2.0
PRODID:-//horsealert.local//NONSGML kigkonsult.se iCalcreator 2.10.5//
CALSCALE:GREGORIAN
X-WR-TIMEZONE:Europe/Dublin
BEGIN:VTIMEZONE
TZID:Etc/GMT-1
BEGIN:STANDARD
DTSTART:20010101T000000
TZOFFSETFROM:+0100
TZOFFSETTO:+0100
TZNAME:GMT +01:00
END:STANDARD
END:VTIMEZONE
BEGIN:VEVENT
UID:20260422T182337CEST-2734d04Upi@horsealert.local
DTSTAMP:20260422T160437Z
CATEGORIES:Horse Alerts
DESCRIPTION:Zero To Landfill 'Newcomers' Standard Open NH Flat Race
DTSTART:20160713T173500
LOCATION:England
SUMMARY:Horse Racing:Zero To Landfill 'Newcomers' Standard Open NH Flat Rac
 e
END:VEVENT
END:VCALENDAR
