BEGIN:VCALENDAR
VERSION:2.0
PRODID:-//horsealert.local//NONSGML kigkonsult.se iCalcreator 2.10.5//
CALSCALE:GREGORIAN
X-WR-TIMEZONE:Europe/Dublin
BEGIN:VTIMEZONE
TZID:Etc/GMT-1
BEGIN:STANDARD
DTSTART:20010101T000000
TZOFFSETFROM:+0100
TZOFFSETTO:+0100
TZNAME:GMT +01:00
END:STANDARD
END:VTIMEZONE
BEGIN:VEVENT
UID:20260422T182049CEST-7217KUnAuW@horsealert.local
DTSTAMP:20260422T160449Z
CATEGORIES:Horse Alerts
DESCRIPTION:Buy And Sell At RoRSourceAHorse.org.uk Maiden Auction Stakes
DTSTART:20160713T190500
LOCATION:England
SUMMARY:Horse Racing:Buy And Sell At RoRSourceAHorse.org.uk Maiden Auction 
 Stakes
END:VEVENT
END:VCALENDAR
