BEGIN:VCALENDAR
VERSION:2.0
PRODID:-//horsealert.local//NONSGML kigkonsult.se iCalcreator 2.10.5//
CALSCALE:GREGORIAN
X-WR-TIMEZONE:Europe/Dublin
BEGIN:VTIMEZONE
TZID:Etc/GMT-1
BEGIN:STANDARD
DTSTART:20010101T000000
TZOFFSETFROM:+0100
TZOFFSETTO:+0100
TZNAME:GMT +01:00
END:STANDARD
END:VTIMEZONE
BEGIN:VEVENT
UID:20260422T182129CEST-4014LbFWMG@horsealert.local
DTSTAMP:20260422T160429Z
CATEGORIES:Horse Alerts
DESCRIPTION:Buy Solar Powered Security Floodlights At greenlighting.co.uk M
 ares' Maiden Hurdle
DTSTART:20160712T200000
LOCATION:England
SUMMARY:Horse Racing:Buy Solar Powered Security Floodlights At greenlightin
 g.co.uk Mares' Maiden Hurdle
END:VEVENT
END:VCALENDAR
