BEGIN:VCALENDAR
VERSION:2.0
PRODID:-//horsealert.local//NONSGML kigkonsult.se iCalcreator 2.10.5//
CALSCALE:GREGORIAN
X-WR-TIMEZONE:Europe/Dublin
BEGIN:VTIMEZONE
TZID:Etc/GMT-1
BEGIN:STANDARD
DTSTART:20010101T000000
TZOFFSETFROM:+0100
TZOFFSETTO:+0100
TZNAME:GMT +01:00
END:STANDARD
END:VTIMEZONE
BEGIN:VEVENT
UID:20260422T182155CEST-8840WBZ3S0@horsealert.local
DTSTAMP:20260422T160455Z
CATEGORIES:Horse Alerts
DESCRIPTION:Dermot O'Callaghan Memorial Handicap Hurdle (80-102)
DTSTART:20160711T202000
LOCATION:Eire
SUMMARY:Horse Racing:Dermot O'Callaghan Memorial Handicap Hurdle (80-102)
END:VEVENT
END:VCALENDAR
