BEGIN:VCALENDAR
VERSION:2.0
PRODID:-//horsealert.local//NONSGML kigkonsult.se iCalcreator 2.10.5//
CALSCALE:GREGORIAN
X-WR-TIMEZONE:Europe/Dublin
BEGIN:VTIMEZONE
TZID:Etc/GMT-1
BEGIN:STANDARD
DTSTART:20010101T000000
TZOFFSETFROM:+0100
TZOFFSETTO:+0100
TZNAME:GMT +01:00
END:STANDARD
END:VTIMEZONE
BEGIN:VEVENT
UID:20260422T182344CEST-0652n41alK@horsealert.local
DTSTAMP:20260422T160444Z
CATEGORIES:Horse Alerts
DESCRIPTION:EBF Stallions Breeding Winners Ladies' Evening Fillies' Handica
 p
DTSTART:20160709T210000
LOCATION:England
SUMMARY:Horse Racing:EBF Stallions Breeding Winners Ladies' Evening Fillies
 ' Handicap
END:VEVENT
END:VCALENDAR
