BEGIN:VCALENDAR
VERSION:2.0
PRODID:-//horsealert.local//NONSGML kigkonsult.se iCalcreator 2.10.5//
CALSCALE:GREGORIAN
X-WR-TIMEZONE:Europe/Dublin
BEGIN:VTIMEZONE
TZID:Etc/GMT-1
BEGIN:STANDARD
DTSTART:20010101T000000
TZOFFSETFROM:+0100
TZOFFSETTO:+0100
TZNAME:GMT +01:00
END:STANDARD
END:VTIMEZONE
BEGIN:VEVENT
UID:20260422T182616CEST-9172TRVKEU@horsealert.local
DTSTAMP:20260422T160416Z
CATEGORIES:Horse Alerts
DESCRIPTION:Darley July Cup (Group 1) (British Champions Series And Global 
 Sprint Challenge)
DTSTART:20160709T163500
LOCATION:England
SUMMARY:Horse Racing:Darley July Cup (Group 1) (British Champions Series An
 d Global Sprint Challenge)
END:VEVENT
END:VCALENDAR
